BEGIN:VCALENDAR
VERSION:2.0
PRODID:-//Library Market//iCal Export//EN
BEGIN:VEVENT
SUMMARY:After-Hours Adult Trivia
UID:45767
DTSTAMP:20260425T033100Z
DTSTART:20260724T220000Z
DTEND:20260725T000000Z
LOCATION:871 Tasker Road, P. O. Box 1300, Stephens City, VA 22655, United 
 States
ROOM: Bowman Meeting Room
DESCRIPTION:FAQs*  FREE!!!*  Teams can have up to six people. Please reg
 ister each member individually!*  Drinks and themed snacks provided*  Wi
 n themed prizes
URL:https://www.handleyregional.org/event/after-hours-adult-trivia-45767
END:VEVENT
END:VCALENDAR
