BEGIN:VCALENDAR
VERSION:2.0
PRODID:-//Library Market//iCal Export//EN
BEGIN:VEVENT
SUMMARY:Native plant gardening with the Shenandoah Master Gardeners
UID:45723
DTSTAMP:20260421T140300Z
DTSTART:20260604T223000Z
DTEND:20260604T233000Z
LOCATION:871 Tasker Road, P. O. Box 1300, Stephens City, VA 22655, United 
 States
ROOM: Bowman Meeting Room
DESCRIPTION:Learn how to select and care for native plants for your home g
 arden from the Shenandoah Valley Master Gardeners. All levels welcome. Fr
 ee and open to the public. No registration needed.
URL:https://www.handleyregional.org/event/native-gardening-shenandoah-mast
 er-gardeners-45723
END:VEVENT
END:VCALENDAR
