BEGIN:VCALENDAR
VERSION:2.0
PRODID:-//Library Market//iCal Export//EN
BEGIN:VEVENT
SUMMARY:Winter Sowing with the Northern Shenandoah Master Gardeners
UID:45721
DTSTAMP:20260420T220600Z
DTSTART:20270106T233000Z
DTEND:20270107T003000Z
LOCATION:871 Tasker Road, P. O. Box 1300, Stephens City, VA 22655, United 
 States
ROOM: Bowman Meeting Room
DESCRIPTION:In this hands-on workshop, participants will create their own 
 winter-sowing jug—an easy, low-maintenance mini greenhouse perfect for s
 tarting seeds. We’ll provide a wide selection of seeds so everyone can g
 row something they love!
URL:https://www.handleyregional.org/event/winter-sowing-northern-shenandoa
 h-master-gardeners-45721
END:VEVENT
END:VCALENDAR
